BEGIN:VCALENDAR
VERSION:2.0
PRODID:-//BroadCoast - ECPv6.15.20//NONSGML v1.0//EN
CALSCALE:GREGORIAN
METHOD:PUBLISH
X-WR-CALNAME:BroadCoast
X-ORIGINAL-URL:https://broadcoast.co.nz
X-WR-CALDESC:Events for BroadCoast
REFRESH-INTERVAL;VALUE=DURATION:PT1H
X-Robots-Tag:noindex
X-PUBLISHED-TTL:PT1H
BEGIN:VTIMEZONE
TZID:Pacific/Auckland
BEGIN:STANDARD
TZOFFSETFROM:+1300
TZOFFSETTO:+1200
TZNAME:NZST
DTSTART:20250405T140000
END:STANDARD
BEGIN:DAYLIGHT
TZOFFSETFROM:+1200
TZOFFSETTO:+1300
TZNAME:NZDT
DTSTART:20250927T140000
END:DAYLIGHT
BEGIN:STANDARD
TZOFFSETFROM:+1300
TZOFFSETTO:+1200
TZNAME:NZST
DTSTART:20260404T140000
END:STANDARD
BEGIN:DAYLIGHT
TZOFFSETFROM:+1200
TZOFFSETTO:+1300
TZNAME:NZDT
DTSTART:20260926T140000
END:DAYLIGHT
BEGIN:STANDARD
TZOFFSETFROM:+1300
TZOFFSETTO:+1200
TZNAME:NZST
DTSTART:20270403T140000
END:STANDARD
BEGIN:DAYLIGHT
TZOFFSETFROM:+1200
TZOFFSETTO:+1300
TZNAME:NZDT
DTSTART:20270925T140000
END:DAYLIGHT
END:VTIMEZONE
BEGIN:VEVENT
DTSTART;TZID=Pacific/Auckland:20260503T160000
DTEND;TZID=Pacific/Auckland:20260503T160000
DTSTAMP:20260422T050600
CREATED:20260419T032418Z
LAST-MODIFIED:20260419T032539Z
UID:10494-1777824000-1777824000@broadcoast.co.nz
SUMMARY:Community BBQ at Marua Hall | Marua Events & Local Gatherings
DESCRIPTION:Community BBQ at Marua Hall  \nA relaxed community BBQ will be held at Marua Hall on May 3rd from 4pm onwards. \nThe hall will provide the BBQ ~ attendees are encouraged to bring their own drinks. \nTable tennis will also be set up\, so feel free to join in for a few games. \nAll are welcome ~ it’s a great chance to connect with others in the community.
URL:https://broadcoast.co.nz/event/community-bbq-marua-hall-event/
LOCATION:Marua Hall\, 791 Marua Road\, Marua\, New Zealand
CATEGORIES:BBQ,Community
ATTACH;FMTTYPE=image/jpeg:https://broadcoast.co.nz/wp-content/uploads/2026/04/marua-community.jpg
END:VEVENT
END:VCALENDAR