BEGIN:VCALENDAR
VERSION:2.0
PRODID:-//BroadCoast - ECPv6.15.20//NONSGML v1.0//EN
CALSCALE:GREGORIAN
METHOD:PUBLISH
X-WR-CALNAME:BroadCoast
X-ORIGINAL-URL:https://broadcoast.co.nz
X-WR-CALDESC:Events for BroadCoast
REFRESH-INTERVAL;VALUE=DURATION:PT1H
X-Robots-Tag:noindex
X-PUBLISHED-TTL:PT1H
BEGIN:VTIMEZONE
TZID:Pacific/Auckland
BEGIN:STANDARD
TZOFFSETFROM:+1300
TZOFFSETTO:+1200
TZNAME:NZST
DTSTART:20250405T140000
END:STANDARD
BEGIN:DAYLIGHT
TZOFFSETFROM:+1200
TZOFFSETTO:+1300
TZNAME:NZDT
DTSTART:20250927T140000
END:DAYLIGHT
BEGIN:STANDARD
TZOFFSETFROM:+1300
TZOFFSETTO:+1200
TZNAME:NZST
DTSTART:20260404T140000
END:STANDARD
BEGIN:DAYLIGHT
TZOFFSETFROM:+1200
TZOFFSETTO:+1300
TZNAME:NZDT
DTSTART:20260926T140000
END:DAYLIGHT
BEGIN:STANDARD
TZOFFSETFROM:+1300
TZOFFSETTO:+1200
TZNAME:NZST
DTSTART:20270403T140000
END:STANDARD
BEGIN:DAYLIGHT
TZOFFSETFROM:+1200
TZOFFSETTO:+1300
TZNAME:NZDT
DTSTART:20270925T140000
END:DAYLIGHT
END:VTIMEZONE
BEGIN:VEVENT
DTSTART;TZID=Pacific/Auckland:20260424T080000
DTEND;TZID=Pacific/Auckland:20260424T170000
DTSTAMP:20260424T000253
CREATED:20260315T045417Z
LAST-MODIFIED:20260408T063730Z
UID:8574-1777017600-1777050000@broadcoast.co.nz
SUMMARY:Machinery Clearance Auction | Hikurangi
DESCRIPTION:🚜 Hikurangi Machinery & Equipment Clearance Auction\nExpressions of Interest Now Open \nThe first-ever Hikurangi Machinery & Equipment Auction is on the way\, and it’s being built with the community from the ground up. \nWith strong interest already\, the event is likely to go ahead on 24 April 2026\, and we’re now calling for Expressions of Interest from sellers so we can finalise the setup. \nGot something to move?Tractors\, diggers\, farm equipment\, plant\, tools\, commercial gear\, or heritage machinery – all welcome. \nYour Expression of Interest helps the team plan the event and ensure the right space\, layout\, and support are in place for sellers and buyers. \nThinking of selling? Send us a quick message with:• Your name• Your phone number• What you may want to list \n📧 hikamachineryclearanceauction@gmail.com📞 027 802 6726 \nA portion of the commission from the auction will go toward refurbishing the historic BNZ building\, helping create a future community space for Hikurangi.
URL:https://broadcoast.co.nz/event/hikurangi-machinery-clearance-auction/
LOCATION:TBA\, HIKURANGI
CATEGORIES:Auction
ATTACH;FMTTYPE=image/jpeg:https://broadcoast.co.nz/wp-content/uploads/2026/03/645559472_122107610565249902_5407594311422881560_n.jpg
END:VEVENT
BEGIN:VEVENT
DTSTART;TZID=Pacific/Auckland:20260425T060000
DTEND;TZID=Pacific/Auckland:20260425T060000
DTSTAMP:20260424T000253
CREATED:20260423T070214Z
LAST-MODIFIED:20260423T082211Z
UID:10523-1777096800-1777096800@broadcoast.co.nz
SUMMARY:ANZAC DAY - Tutukākā Coast
DESCRIPTION:As the sun rises this ANZAC Day\, the Tutukākā Coast community\nis invited to gather at the cenotaph for the Dawn Service.\nA time to remember\, reflect\, and honour those who served. \nNgunguru Sports & Recreation Club | 6am\nAll are welcome. \n☕ After the Service\nReturn to the club for breakfast with Estuary Bistro\, a warm drink\,\nand time to connect with the community. \n🕒 Club Hours\nOpen: 7:00am – 11:00am\nReopens: 3:30pm as usual
URL:https://broadcoast.co.nz/event/anzac-day-tutukaka-coast/
LOCATION:Ngunguru Sports & Recreation Club\, Kopipi Crescent\, NGUNGURU\, New Zealand
CATEGORIES:Community
ATTACH;FMTTYPE=image/png:https://broadcoast.co.nz/wp-content/uploads/2026/04/A4-NSRC-ANZAC-Day-1920-x-1005-px-1.png
END:VEVENT
BEGIN:VEVENT
DTSTART;TZID=Pacific/Auckland:20260425T100000
DTEND;TZID=Pacific/Auckland:20260425T100000
DTSTAMP:20260424T000253
CREATED:20260423T072630Z
LAST-MODIFIED:20260423T091830Z
UID:10533-1777111200-1777111200@broadcoast.co.nz
SUMMARY:ANZAC Day 26 | Hikurangi
DESCRIPTION:🌺 ANZAC Day Parade – Hikurangi\nSaturday 25 April | 10:00am📍 Hikurangi War Memorial Hall\, 24 King Street \nThe Hikurangi community is invited to come together this ANZAC Day for the annual parade and commemorative service. \nThe parade will form up outside the Hikurangi War Memorial Hall and step off at 10:00am\, marching to the Hikurangi School grounds\, where the service will be held. \nIn the event of wet weather\, the service will take place inside the Memorial Hall. \nThe Hikurangi Museum will also be open\, offering a chance to reflect on local history and stories of service. \n\n🌹 Poppy Day – Friday 24 April\nHikurangi has always shown strong support for Poppy Day\, and that support is greatly appreciated. \nPlease keep an eye out for collectors around town on Friday 24 April\, and take the opportunity to contribute if you can.
URL:https://broadcoast.co.nz/event/anzac-day-26-hikurangi/
LOCATION:Hikurangi Memorial Hall\, New Zealand
CATEGORIES:Community
ATTACH;FMTTYPE=image/png:https://broadcoast.co.nz/wp-content/uploads/2026/04/ChatGPT-Image-Apr-23-2026-07_22_50-PM.png
END:VEVENT
BEGIN:VEVENT
DTSTART;TZID=Pacific/Auckland:20260425T103000
DTEND;TZID=Pacific/Auckland:20260425T103000
DTSTAMP:20260424T000253
CREATED:20260403T014228Z
LAST-MODIFIED:20260408T063717Z
UID:8893-1777113000-1777113000@broadcoast.co.nz
SUMMARY:ANZAC Day Service 26 | Whananaki
DESCRIPTION:Bringing things back. \nThe ANZAC Day service returns to Whananaki this April – a chance for the community to come together\, remember\, and honour those who came before us. \n10:30am at the school\, with a catch-up at the hall afterwards.
URL:https://broadcoast.co.nz/event/anzac-day-service-26-whananaki/
LOCATION:whananaki school\, 2162 Whananaki North Road\,\, HIKURANGI\, 0181\, New Zealand
CATEGORIES:Community
ATTACH;FMTTYPE=image/png:https://broadcoast.co.nz/wp-content/uploads/2026/04/Screenshot-2026-04-03-at-2.34.47-PM.png
END:VEVENT
END:VCALENDAR